BEGIN:VCALENDAR
VERSION:2.0
PRODID:-//ChamberMaster//Event Calendar 2.0//EN
METHOD:PUBLISH
X-PUBLISHED-TTL:P1H
REFRESH-INTERVAL:P1H
CALSCALE:GREGORIAN
BEGIN:VTIMEZONE
TZID:America/New_York
BEGIN:DAYLIGHT
RRULE:FREQ=YEARLY;BYMONTH=3;BYDAY=2SU
DTSTART:20070101T000000
TZOFFSETFROM:-0500
TZOFFSETTO:-0400
TZNAME:Eastern Daylight Time
END:DAYLIGHT
BEGIN:STANDARD
RRULE:FREQ=YEARLY;BYMONTH=11;BYDAY=1SU
DTSTART:20070101T000000
TZOFFSETFROM:-0400
TZOFFSETTO:-0500
TZNAME:Eastern Standard Time
END:STANDARD
END:VTIMEZONE
BEGIN:VEVENT
DTSTART;TZID=America/New_York:20260723T090000
DTEND;TZID=America/New_York:20260723T110000
X-MICROSOFT-CDO-ALLDAYEVENT:FALSE
SUMMARY:Employment Law Update
DESCRIPTION:Join us for our annual Employment Law Update - More details to be provided soon!
X-ALT-DESC;FMTTYPE=text/html:Join us for our annual Employment Law Update - More details to be provided soon!
LOCATION:201 S. Washington St Maryville TN 37804
UID:e.3503.1417525
SEQUENCE:3
DTSTAMP:20260421T173758Z
URL:https://members.blountchamber.com/chambereventscalendar/Details/employment-law-update-1675553?sourceTypeId=Hub
END:VEVENT
END:VCALENDAR
