BEGIN:VCALENDAR
VERSION:2.0
PRODID:-//ChamberMaster//Event Calendar 2.0//EN
METHOD:PUBLISH
X-PUBLISHED-TTL:P1H
REFRESH-INTERVAL:P1H
CALSCALE:GREGORIAN
BEGIN:VTIMEZONE
TZID:America/New_York
BEGIN:DAYLIGHT
RRULE:FREQ=YEARLY;BYMONTH=3;BYDAY=2SU
DTSTART:20070101T000000
TZOFFSETFROM:-0500
TZOFFSETTO:-0400
TZNAME:Eastern Daylight Time
END:DAYLIGHT
BEGIN:STANDARD
RRULE:FREQ=YEARLY;BYMONTH=11;BYDAY=1SU
DTSTART:20070101T000000
TZOFFSETFROM:-0400
TZOFFSETTO:-0500
TZNAME:Eastern Standard Time
END:STANDARD
END:VTIMEZONE
BEGIN:VEVENT
DTSTART;TZID=America/New_York:20261104T083000
DTEND;TZID=America/New_York:20261104T100000
X-MICROSOFT-CDO-ALLDAYEVENT:FALSE
SUMMARY:Success in 90 - C.O.A.C.H. Them to Succeed - Paul Boyles
DESCRIPTION:Make plans to attend our next Success in 90. More details to come.Register Here
X-ALT-DESC;FMTTYPE=text/html:<!DOCTYPE html><html><head><title></title></head><body aria-disabled="false"><p>Make plans to attend our next Success in 90.&nbsp\;</p><p>More details to come.</p><p><a fr-original-style="" href="https://blountcountychamberofcommerce.growthzoneapp.com/ap/Events/Register/WqFej4oIaCJCE" style="user-select: auto\;">Register Here</a></p></body></html>
LOCATION:201 S. Washington St Maryville TN 37804
UID:e.3503.1344044
SEQUENCE:3
DTSTAMP:20260421T174059Z
URL:https://members.blountchamber.com/chambereventscalendar/Details/success-in-90-c-o-a-c-h-them-to-succeed-paul-boyles-1578987?sourceTypeId=Hub
END:VEVENT
END:VCALENDAR
