BEGIN:VCALENDAR
VERSION:2.0
PRODID:-//ChamberMaster//Event Calendar 2.0//EN
METHOD:PUBLISH
X-PUBLISHED-TTL:P1H
REFRESH-INTERVAL:P1H
CALSCALE:GREGORIAN
BEGIN:VTIMEZONE
TZID:America/New_York
BEGIN:DAYLIGHT
RRULE:FREQ=YEARLY;BYMONTH=3;BYDAY=2SU
DTSTART:20070101T000000
TZOFFSETFROM:-0500
TZOFFSETTO:-0400
TZNAME:Eastern Daylight Time
END:DAYLIGHT
BEGIN:STANDARD
RRULE:FREQ=YEARLY;BYMONTH=11;BYDAY=1SU
DTSTART:20070101T000000
TZOFFSETFROM:-0400
TZOFFSETTO:-0500
TZNAME:Eastern Standard Time
END:STANDARD
END:VTIMEZONE
BEGIN:VEVENT
DTSTART;TZID=America/New_York:20260603T083000
DTEND;TZID=America/New_York:20260603T100000
X-MICROSOFT-CDO-ALLDAYEVENT:FALSE
SUMMARY:Success in 90 - Goal Setting & Execution
DESCRIPTION:Make plans to attend our next Success in 90 seminar on Wednesday\, June 3rd with Denise Hall\, President & CEO of Peak Performance\, Operators of the Smart Factory Institute.All leaders must be able to establish goals and create a vision for how their teams can achieve individual and team goals that are integrated into higher level corporate goals. This course reviews creating SMART goals and prioritizing and developing action plans. It also introduces the 4 Disciplines of Execution and discusses self-motivation and time management.
X-ALT-DESC;FMTTYPE=text/html:<!DOCTYPE html><html><head><title></title></head><body aria-disabled="false"><p><span style="font-family: Arial\,Helvetica\,sans-serif\;">Make plans to attend our next Success in 90 seminar on Wednesday\, June 3rd with <strong fr-original-style="" style="font-weight: 700\;">Denise Hall\, <span style="color: rgb(0\, 0\, 0)\; font-size: medium\; font-style: normal\; font-variant-ligatures: normal\; font-variant-caps: normal\; font-weight: 400\; letter-spacing: normal\; orphans: 2\; text-align: start\; text-indent: 0px\; text-transform: none\; widows: 2\; word-spacing: 0px\; -webkit-text-stroke-width: 0px\; white-space: normal\; text-decoration-thickness: initial\; text-decoration-style: initial\; text-decoration-color: initial\; float: none\; display: inline !important\;">President &amp\; CEO of Peak Performance\, Operators of the Smart Factory Institute.</span></strong></span></p><p><span style="font-family: Arial\,Helvetica\,sans-serif\;"><span style="color: rgb(0\, 0\, 0)\; font-size: medium\; font-style: normal\; font-variant-ligatures: normal\; font-variant-caps: normal\; font-weight: 400\; letter-spacing: normal\; orphans: 2\; text-align: start\; text-indent: 0px\; text-transform: none\; widows: 2\; word-spacing: 0px\; -webkit-text-stroke-width: 0px\; white-space: normal\; text-decoration-thickness: initial\; text-decoration-style: initial\; text-decoration-color: initial\; float: none\; display: inline !important\;">All leaders must be able to establish goals and create a vision for how their teams can achieve individual and team goals that are integrated into higher level corporate goals. This course reviews creating SMART goals and prioritizing and developing action plans. It also introduces the 4 Disciplines of Execution and discusses self-motivation and time management.</span></span></p><p style='color: rgb(0\, 0\, 0)\; font-family: "Times New Roman"\; font-size: medium\; font-style: normal\; font-variant-ligatures: normal\; font-variant-caps: normal\; font-weight: 400\; letter-spacing: normal\; orphans: 2\; text-align: start\; text-indent: 0px\; text-transform: none\; widows: 2\; word-spacing: 0px\; -webkit-text-stroke-width: 0px\; white-space: normal\; text-decoration-thickness: initial\; text-decoration-style: initial\; text-decoration-color: initial\;'><br></p></body></html>
LOCATION:201 S. Washington St Maryville TN 37804
UID:e.3503.1343980
SEQUENCE:3
DTSTAMP:20260421T173717Z
URL:https://members.blountchamber.com/chambereventscalendar/Details/success-in-90-goal-setting-execution-1578924?sourceTypeId=Hub
END:VEVENT
END:VCALENDAR
